BEGIN:VCALENDAR
VERSION:2.0
PRODID:-//L&#039;Aquila Capitale italiana della Cultura 2026 - ECPv6.15.14//NONSGML v1.0//EN
CALSCALE:GREGORIAN
METHOD:PUBLISH
X-WR-CALNAME:L&#039;Aquila Capitale italiana della Cultura 2026
X-ORIGINAL-URL:https://laquila2026.it
X-WR-CALDESC:Eventi per L&#039;Aquila Capitale italiana della Cultura 2026
REFRESH-INTERVAL;VALUE=DURATION:PT1H
X-Robots-Tag:noindex
X-PUBLISHED-TTL:PT1H
BEGIN:VTIMEZONE
TZID:Europe/Rome
BEGIN:DAYLIGHT
TZOFFSETFROM:+0100
TZOFFSETTO:+0200
TZNAME:CEST
DTSTART:20250330T010000
END:DAYLIGHT
BEGIN:STANDARD
TZOFFSETFROM:+0200
TZOFFSETTO:+0100
TZNAME:CET
DTSTART:20251026T010000
END:STANDARD
BEGIN:DAYLIGHT
TZOFFSETFROM:+0100
TZOFFSETTO:+0200
TZNAME:CEST
DTSTART:20260329T010000
END:DAYLIGHT
BEGIN:STANDARD
TZOFFSETFROM:+0200
TZOFFSETTO:+0100
TZNAME:CET
DTSTART:20261025T010000
END:STANDARD
BEGIN:DAYLIGHT
TZOFFSETFROM:+0100
TZOFFSETTO:+0200
TZNAME:CEST
DTSTART:20270328T010000
END:DAYLIGHT
BEGIN:STANDARD
TZOFFSETFROM:+0200
TZOFFSETTO:+0100
TZNAME:CET
DTSTART:20271031T010000
END:STANDARD
END:VTIMEZONE
BEGIN:VEVENT
DTSTART;TZID=Europe/Rome:20260426T110000
DTEND;TZID=Europe/Rome:20260426T110000
DTSTAMP:20260422T011039
CREATED:20260413T125900Z
LAST-MODIFIED:20260413T125908Z
UID:4109-1777201200-1777201200@laquila2026.it
SUMMARY:Cerimonia di premiazione IEEE GRSS Italy Chapter - "Frank Marzano" Best Remote Sensing Thesis Award
DESCRIPTION:11:00 – 11:10 Saluti: osservazione della Terra a servizio della comunità\n11:10 – 11:20 Introduzione al Premio “Frank Marzano” per le miglior tesi\n11:20 – 13:20 Presentazione dei premiati\n13:20 – 13:20 Cerimonia di premiazione\n13:30 – 14:00 Aperitivo
URL:https://laquila2026.it/evento/cerimonia-di-premiazione-frank-marzano/
LOCATION:Università degli Studi dell’Aquila – Centro Congressi “Luigi Zordan”\, P.za S. Basilio\, 3\, 67100 L'Aquila AQ\, L'Aquila\, AQ\, 67100\, Italy
CATEGORIES:Premiazione
ATTACH;FMTTYPE=image/jpeg:https://laquila2026.it/wp-content/uploads/2026/04/cerimonia-premiazione-ieee-grss-italy-chapter-frank-marzano.jpg
ORGANIZER;CN="Universit%C3%A0 dell'Aquila Cetemps Consiglio Nazionale delle Ricerche CNR":MAILTO:cetemps@strutture.univaq.it
END:VEVENT
END:VCALENDAR